BEGIN:VCALENDAR
VERSION:2.0
PRODID:-//CATIE - ECPv6.15.20//NONSGML v1.0//EN
CALSCALE:GREGORIAN
METHOD:PUBLISH
X-WR-CALNAME:CATIE
X-ORIGINAL-URL:https://www.catie.fr
X-WR-CALDESC:Évènements pour CATIE
REFRESH-INTERVAL;VALUE=DURATION:PT1H
X-Robots-Tag:noindex
X-PUBLISHED-TTL:PT1H
BEGIN:VTIMEZONE
TZID:Europe/Paris
BEGIN:DAYLIGHT
TZOFFSETFROM:+0100
TZOFFSETTO:+0200
TZNAME:CEST
DTSTART:20250330T010000
END:DAYLIGHT
BEGIN:STANDARD
TZOFFSETFROM:+0200
TZOFFSETTO:+0100
TZNAME:CET
DTSTART:20251026T010000
END:STANDARD
BEGIN:DAYLIGHT
TZOFFSETFROM:+0100
TZOFFSETTO:+0200
TZNAME:CEST
DTSTART:20260329T010000
END:DAYLIGHT
BEGIN:STANDARD
TZOFFSETFROM:+0200
TZOFFSETTO:+0100
TZNAME:CET
DTSTART:20261025T010000
END:STANDARD
BEGIN:DAYLIGHT
TZOFFSETFROM:+0100
TZOFFSETTO:+0200
TZNAME:CEST
DTSTART:20270328T010000
END:DAYLIGHT
BEGIN:STANDARD
TZOFFSETFROM:+0200
TZOFFSETTO:+0100
TZNAME:CET
DTSTART:20271031T010000
END:STANDARD
END:VTIMEZONE
BEGIN:VEVENT
DTSTART;TZID=Europe/Paris:20260421T090000
DTEND;TZID=Europe/Paris:20260421T170000
DTSTAMP:20260419T143011
CREATED:20260402T082331Z
LAST-MODIFIED:20260402T082340Z
UID:58578-1776762000-1776790800@www.catie.fr
SUMMARY:Formation Dihnamic : « L’IoT au service de l’IA »
DESCRIPTION:Dans un contexte où la donnée est partout\, la convergence entre IoT et Intelligence Artificielle ouvre des perspectives CONCRETES pour améliorer performance\, maintenance et prise de décision.Dans le cadre de Dihnamic\, le CATIE intervient lors de la formation dédiée « L’IoT au service de l’IA”Une journée pensée pour les dirigeants\, cadres et responsables innovation qui souhaitent passer à l’action.Aucun prérequis technique ! \n\n\n\n\nAu programme :• Comprendre les fondamentaux de l’IoT et de l’IA embarquée• Identifier des cas d’usage concrets en entreprise• Explorer des retours d’expérience applicables immédiatementUne journée pensée pour les dirigeants\, cadres et responsables innovation qui souhaitent passer à l’action.Aucun prérequis technique !La matinée sera consacrée à une introduction à l’IoT et à l’IA embarquée.L’après-midi sera dédié aux cas d’usage et applications.A l’issue de cette journée\, vous pourrez :• Identifier les applications concrètes au sein de votre entreprise• dialoguer avec des équipes techniques• évaluer la pertinence de ces technologies dans vos projets
URL:https://www.catie.fr/event/formation-dihnamic-liot-au-service-de-lia/
LOCATION:ENSC\, 109 avenue Roul\, Talence\, 33400\, France
ATTACH;FMTTYPE=image/png:https://www.catie.fr/wp-content/uploads/2026/04/260401_banniere_actu_formation_iaiot.png
END:VEVENT
BEGIN:VEVENT
DTSTART;TZID=Europe/Paris:20260422T090000
DTEND;TZID=Europe/Paris:20260422T170000
DTSTAMP:20260419T143011
CREATED:20260402T091026Z
LAST-MODIFIED:20260402T091359Z
UID:58590-1776848400-1776877200@www.catie.fr
SUMMARY:Formation Dihnamic : « Mettre en œuvre une IA embarquée
DESCRIPTION:Savez-vous que l’IA se joue également au plus près du terrain et non plus dans le cloud ??Capteurs intelligents\, objets autonomes\, systèmes embarqués capables d’analyser et décider en temps réel\, voilà la réalité aujourd’hui.L’enjeu n’est donc plus de seulement de développer des modèles…mais de les faire fonctionner dans des environnements contraints\, en conditions réelles!Le 22 avril\, le CATIE intervient dans une formation opérationnelle : “mettre en œuvre une IA embarquée” \n\n\n\n\n• Concevoir un capteur intelligent à partir d’un microcontôleur• Collecter et analyser des données embarquées• Intégrer un modèle d’IA directement dans le composant• Mesurer concrètement les gains de performanceUne approche pragmatique et expérimentale\, pensée pour les développeurs et ingénieurs souhaitant manipuler\, tester et comprendre.Avant de passer à l’action au sein de leurs structures !
URL:https://www.catie.fr/event/formation-dihnamic-mettre-en-oeuvre-une-ia-embarquee/
LOCATION:ENSC\, 109 avenue Roul\, Talence\, 33400\, France
ATTACH;FMTTYPE=image/jpeg:https://www.catie.fr/wp-content/uploads/2026/04/260401_Intelligence-artificielle-de-pointe.jpg
END:VEVENT
END:VCALENDAR